	 BEGIN:VCALENDAR
VERSION:2.0
PRODID:-//Colonie Senior Service Center - Colonie, NY - ECPv6.15.20//NONSGML v1.0//EN
CALSCALE:GREGORIAN
METHOD:PUBLISH
X-WR-CALNAME:Colonie Senior Service Center - Colonie, NY
X-ORIGINAL-URL:https://colonieseniors.org
X-WR-CALDESC:Events for Colonie Senior Service Center - Colonie, NY
REFRESH-INTERVAL;VALUE=DURATION:PT1H
X-Robots-Tag:noindex
X-PUBLISHED-TTL:PT1H
BEGIN:VTIMEZONE
TZID:America/New_York
BEGIN:DAYLIGHT
TZOFFSETFROM:-0500
TZOFFSETTO:-0400
TZNAME:EDT
DTSTART:20180311T070000
END:DAYLIGHT
BEGIN:STANDARD
TZOFFSETFROM:-0400
TZOFFSETTO:-0500
TZNAME:EST
DTSTART:20181104T060000
END:STANDARD
BEGIN:DAYLIGHT
TZOFFSETFROM:-0500
TZOFFSETTO:-0400
TZNAME:EDT
DTSTART:20190310T070000
END:DAYLIGHT
BEGIN:STANDARD
TZOFFSETFROM:-0400
TZOFFSETTO:-0500
TZNAME:EST
DTSTART:20191103T060000
END:STANDARD
BEGIN:DAYLIGHT
TZOFFSETFROM:-0500
TZOFFSETTO:-0400
TZNAME:EDT
DTSTART:20200308T070000
END:DAYLIGHT
BEGIN:STANDARD
TZOFFSETFROM:-0400
TZOFFSETTO:-0500
TZNAME:EST
DTSTART:20201101T060000
END:STANDARD
END:VTIMEZONE
BEGIN:VEVENT
DTSTART;TZID=America/New_York:20191016T110000
DTEND;TZID=America/New_York:20191016T113000
DTSTAMP:20260423T043915
CREATED:20221013T160302Z
LAST-MODIFIED:20221013T160302Z
UID:10000572-1571223600-1571225400@colonieseniors.org
SUMMARY:Ballroom Dance Lessons
DESCRIPTION:Learn how to Waltz\, Swing\, Rumba and more to those famous classy songs with U.S. National Ballroom Dance Champion and Dance Master Florin Vlad from Dance Fire Studio. The eight (8) class course will finish with an amazing social dance party. \nWhere:\nThe Center at CSSC (The Beltrone\nLiving Center – 6 Winners Circle) \nWhen:\nWednesdays 11 a.m. to 11:30 a.m.\n(October 2\, 9\, 16\, 23\, 30 and November 6\, 13\, 20) \nCost: Member $80/8 classes per person\nNot-yet-member $120/8 classes per person \nOpen to all abilities and immobilities. \nCost of lessons is non-refundable. For registration information\, please call Caroline at 518-459-2857 ext. 327. 
URL:https://colonieseniors.org/event/3529/2019-10-16/
LOCATION:The Beltrone Living Center\, 6 Winners Circle\, Albany\, NY\, 12205\, United States
ATTACH;FMTTYPE=image/jpeg:https://colonieseniors.org/wp-content/uploads/2019/08/Dance.jpg
END:VEVENT
BEGIN:VEVENT
DTSTART;TZID=America/New_York:20191017T110000
DTEND;TZID=America/New_York:20191017T130000
DTSTAMP:20260423T043915
CREATED:20191003T151116Z
LAST-MODIFIED:20191003T151116Z
UID:10000578-1571310000-1571317200@colonieseniors.org
SUMMARY:October is National Pizza Month
DESCRIPTION:Anyone in the business of serving pizza probably does not need to be reminded that October is National Pizza Month in the United States. While the contribution of the first pizzerias in this country cannot be ignored\, it was really the returning American soldiers who fought in Italy during World War II that brought a hunger for pizza home with them and pushed its popularity over the top. America’s love of pizza continued to grow and now October is the official National Pizza Month across most of North America. People do not really need a special month for pizza in a country where there are an estimated 63\,000 pizzerias and 94 percent of Americans eat pizza at least once a month. \nPlease join us on Thursday\, October 17\, at 11 a.m. as Matt DeFazio of DeFazio’s Pizzeria shows us how pizza is made. \nThe demonstration will take place at King Thiel Senior Community\, 17 Elks Lane\, with a non-refundable fee of $5 for members and $7 for not-yet-members of THE CENTER at CSSC and will include lunch. Space is limited and prepayment for the class is required. To make a reservation\, please call Sharon Herald at 518-459-2857 ext. 302. \n 
URL:https://colonieseniors.org/event/october-is-national-pizza-month/
LOCATION:King Thiel Senior Community\, 17 Elks Ln\, Latham\, NY\, 12110\, United States
ATTACH;FMTTYPE=image/jpeg:https://colonieseniors.org/wp-content/uploads/2019/10/pizza.jpg
END:VEVENT
BEGIN:VEVENT
DTSTART;TZID=America/New_York:20191017T130000
DTEND;TZID=America/New_York:20191017T140000
DTSTAMP:20260423T043915
CREATED:20190829T175521Z
LAST-MODIFIED:20191002T175035Z
UID:10000562-1571317200-1571320800@colonieseniors.org
SUMMARY:Ten Week Fall Session of Tai Chi Being Offered
DESCRIPTION:Tai Chi is a gentle form of exercise utilizing every part of the body coordinated in a natural and slow rhythm. The gentle\, continuous\, safe movements are relaxing and can benefit balance\, strength\, circulation\, and memory. It is often called “Medication in Motion”. This program will use the evidence-based Tai Chi for Arthritis and Falls Prevention Program designed by Dr. Paul Lam. The classes will be held at 1 p.m. on Thursdays in the Dance Studio at The Beltrone Living Center\, starting October 3\nand ending December 12. Tai Chi is for everybody. The non-refundable cost for the ten-week program is $50 for members and $70 for not-yet-members. For registration information\, please call Caroline at 518-459-2857 ext. 327.
URL:https://colonieseniors.org/event/ten-week-fall-session-of-tai-chi-being-offered/2019-10-17/
ATTACH;FMTTYPE=image/jpeg:https://colonieseniors.org/wp-content/uploads/2019/08/blue.jpg
END:VEVENT
END:VCALENDAR