	 BEGIN:VCALENDAR
VERSION:2.0
PRODID:-//Colonie Senior Service Center - Colonie, NY - ECPv6.15.20//NONSGML v1.0//EN
CALSCALE:GREGORIAN
METHOD:PUBLISH
X-WR-CALNAME:Colonie Senior Service Center - Colonie, NY
X-ORIGINAL-URL:https://colonieseniors.org
X-WR-CALDESC:Events for Colonie Senior Service Center - Colonie, NY
REFRESH-INTERVAL;VALUE=DURATION:PT1H
X-Robots-Tag:noindex
X-PUBLISHED-TTL:PT1H
BEGIN:VTIMEZONE
TZID:America/New_York
BEGIN:DAYLIGHT
TZOFFSETFROM:-0500
TZOFFSETTO:-0400
TZNAME:EDT
DTSTART:20250309T070000
END:DAYLIGHT
BEGIN:STANDARD
TZOFFSETFROM:-0400
TZOFFSETTO:-0500
TZNAME:EST
DTSTART:20251102T060000
END:STANDARD
BEGIN:DAYLIGHT
TZOFFSETFROM:-0500
TZOFFSETTO:-0400
TZNAME:EDT
DTSTART:20260308T070000
END:DAYLIGHT
BEGIN:STANDARD
TZOFFSETFROM:-0400
TZOFFSETTO:-0500
TZNAME:EST
DTSTART:20261101T060000
END:STANDARD
BEGIN:DAYLIGHT
TZOFFSETFROM:-0500
TZOFFSETTO:-0400
TZNAME:EDT
DTSTART:20270314T070000
END:DAYLIGHT
BEGIN:STANDARD
TZOFFSETFROM:-0400
TZOFFSETTO:-0500
TZNAME:EST
DTSTART:20271107T060000
END:STANDARD
END:VTIMEZONE
BEGIN:VEVENT
DTSTART;TZID=America/New_York:20260105T090000
DTEND;TZID=America/New_York:20260105T153000
DTSTAMP:20260420T100816
CREATED:20251002T154242Z
LAST-MODIFIED:20251126T153348Z
UID:10000822-1767603600-1767627000@colonieseniors.org
SUMMARY:Defensive Driving Class
DESCRIPTION:Richard Burt\, Driver Fitness Coordinator\, will conduct this Defensive Driving class at The Beltrone Living Center. Cost is $25 per person\, due before day of class. To reserve your seat\, call 518-459-2857 ext. 340.
URL:https://colonieseniors.org/event/defensive-driving-class-36/
LOCATION:The Beltrone Living Center\, 6 Winners Circle\, Albany\, NY\, 12205\, United States
ATTACH;FMTTYPE=image/jpeg:https://colonieseniors.org/wp-content/uploads/2019/03/IMG_0813-ang3-2.jpg
END:VEVENT
BEGIN:VEVENT
DTSTART;TZID=America/New_York:20260113T090000
DTEND;TZID=America/New_York:20260113T153000
DTSTAMP:20260420T100816
CREATED:20251126T153532Z
LAST-MODIFIED:20251126T153533Z
UID:10000820-1768294800-1768318200@colonieseniors.org
SUMMARY:Defensive Driving Classes
DESCRIPTION:Richard Burt\, CSSC’s Driver Fitness Coordinator\, will conduct Defensive Driving Classes on the following dates: \n\nTuesday\, August 12\, 2025 from 9:00 a.m. to 3:30 p.m.\nTuesday\, September\, 16 2025 from 9:00 a.m. to 3:30 p.m.\nMonday\, September 22\, 2025 from 9:00 a.m. to 3:30 p.m.\n\nClasses will be held at\nThe Beltrone Living\nCenter\, 6 Winners Circle\,\nAlbany\, NY. \nCost is $25 per person\, due before day of class. \nTo reserve your seat\, call 518-459-2857\, ext. 340.
URL:https://colonieseniors.org/event/defensive-driving-classes-2-3/
LOCATION:The Beltrone Living Center\, 6 Winners Circle\, Albany\, NY\, 12205\, United States
CATEGORIES:Driver Fitness
ATTACH;FMTTYPE=image/jpeg:https://colonieseniors.org/wp-content/uploads/2019/03/driver.jpg
END:VEVENT
END:VCALENDAR